BEGIN:VCALENDAR
VERSION:2.0
PRODID:-//Pod Osłonami - ECPv6.15.17//NONSGML v1.0//EN
CALSCALE:GREGORIAN
METHOD:PUBLISH
X-WR-CALNAME:Pod Osłonami
X-ORIGINAL-URL:https://podoslonami.pl
X-WR-CALDESC:Wydarzenia dla Pod Osłonami
REFRESH-INTERVAL;VALUE=DURATION:PT1H
X-Robots-Tag:noindex
X-PUBLISHED-TTL:PT1H
BEGIN:VTIMEZONE
TZID:Europe/Paris
BEGIN:DAYLIGHT
TZOFFSETFROM:+0100
TZOFFSETTO:+0200
TZNAME:CEST
DTSTART:20250330T010000
END:DAYLIGHT
BEGIN:STANDARD
TZOFFSETFROM:+0200
TZOFFSETTO:+0100
TZNAME:CET
DTSTART:20251026T010000
END:STANDARD
BEGIN:DAYLIGHT
TZOFFSETFROM:+0100
TZOFFSETTO:+0200
TZNAME:CEST
DTSTART:20260329T010000
END:DAYLIGHT
BEGIN:STANDARD
TZOFFSETFROM:+0200
TZOFFSETTO:+0100
TZNAME:CET
DTSTART:20261025T010000
END:STANDARD
BEGIN:DAYLIGHT
TZOFFSETFROM:+0100
TZOFFSETTO:+0200
TZNAME:CEST
DTSTART:20270328T010000
END:DAYLIGHT
BEGIN:STANDARD
TZOFFSETFROM:+0200
TZOFFSETTO:+0100
TZNAME:CET
DTSTART:20271031T010000
END:STANDARD
END:VTIMEZONE
BEGIN:VEVENT
DTSTART;VALUE=DATE:20260619
DTEND;VALUE=DATE:20260621
DTSTAMP:20260425T221523
CREATED:20260322T120930Z
LAST-MODIFIED:20260322T122238Z
UID:72433-1781827200-1781999999@podoslonami.pl
SUMMARY:Ogólnopolska Konferencja Naukowa - Ziemia. Roślina. Odpowiedzialność. 110 lat ogrodnictwa w SGGW.
DESCRIPTION:Wydział Ogrodniczy oraz Instytut Nauk Ogrodniczych  Szkoły Głównej Gospodarstwa Wiejskiego w Warszawie\,  we współpracy z Polskim Towarzystwem Nauk Ogrodniczych mają zaszczyt zaprosić do udziału w\nOgólnopolskiej Konferencji Naukowej\nZiemia. Roślina. Odpowiedzialność.\n110 lat ogrodnictwa w SGGW\noraz w Zjeździe Absolwentów\norganizowanych w ramach 210 lat Tradycji SGGW\n19-20 czerwca 2026 roku\nTematyka Konferencji dotyczy następujących zagadnień:\n\nogrodnictwo przyszłości – technologie\, innowacje\, zieleń miejska\nrola ogrodnictwa w kształtowaniu zdrowego stylu życia\nzrównoważone ogrodnictwo – ochrona bioróżnorodności\, stabilność ekosystemów\, bezpieczeństwo żywnościowe\n\nZainteresowanych udziałem zapraszamy po szczegółowe informacje pod adres: https://110latogrodnictwawsggw.pl/\nZgłoszenia:\nDo 31 marca 2026 r. – zgłoszenia na Konferencję i Bal Absolwentów\nDo 31 marca 2026 r. – wpłaty konferencyjne i na Bal Absolwentów\nDo 15 kwietnia 2026 r. – nadsyłanie streszczeń doniesień konferencyjnych\nOpłaty:\nWysokość opłaty konferencyjnej – 700 zł\, ulgowa dla doktorantów – 300 zł. \nWpisowe konferencyjne obejmuje: udział w konferencji\, przerwy kawowe\, lunche\, uroczystą kolację w Wilanowie oraz książkę abstraktów w wersji elektronicznej \nWysokość opłaty za udział w Balu Absolwentów – 350 zł (dostępność miejsc ograniczona\, decyduje kolejność wpłat) \nOpłaty za udział w konferencji oraz za udział w Balu Absolwentów należy wpłacać na konto: \nPolskie Towarzystwo Nauk Ogrodniczych\nAl. 29 Listopada 54\, 31-425 Kraków\nBank Pekao S.A. 67 1240 1125 1111 0011 6412 8366 \nW tytule przelewu z opłatą konferencyjną prosimy wpisać:\nKonferencja\, Imię i Nazwisko  \nW tytule przelewu z opłatą za udział w Balu Absolwentów prosimy wpisać:\nBal Absolwentów\, Imię i Nazwisko
URL:https://podoslonami.pl/zapowiedz/ogolnopolska-konferencja-naukowa-ziemia-roslina-odpowiedzialnosc-110-lat-ogrodnictwa-w-sggw/
LOCATION:SGGW
ATTACH;FMTTYPE=image/jpeg:https://podoslonami.pl/wp-content/uploads/2026/03/SGGW.jpg
END:VEVENT
BEGIN:VEVENT
DTSTART;VALUE=DATE:20260626
DTEND;VALUE=DATE:20260629
DTSTAMP:20260425T221523
CREATED:20260114T115937Z
LAST-MODIFIED:20260114T115937Z
UID:71487-1782432000-1782691199@podoslonami.pl
SUMMARY:Dni Otwarte Plantpol Zaborze
DESCRIPTION:Plantpol Zaborze zaprasza na\nDni Otwarte \n\n 26–27 czerwca – spotkanie branży ogrodniczej\n 28 czerwca – zapraszamy hobbystów i pasjonatów zieleni\n\n\n\n                                                             W programie mnóstwo kwiatów\, inspiracji i rozmów o tym\, co w ogrodnictwie najważniejsze
URL:https://podoslonami.pl/zapowiedz/dni-otwarte-plantpol-zaborze-2/
LOCATION:Plantpol Zaborze\, ul. Jezioro 33-35\, Oświęcim\, 32-600\, Polska
ATTACH;FMTTYPE=image/jpeg:https://podoslonami.pl/wp-content/uploads/2026/01/615358896_1298316232329956_2848055245247300659_n.jpg
ORGANIZER;CN="Plantpol Sp.z.o.o.":MAILTO:handel@plantpol.com.pl
END:VEVENT
BEGIN:VEVENT
DTSTART;VALUE=DATE:20260903
DTEND;VALUE=DATE:20260906
DTSTAMP:20260425T221523
CREATED:20260218T134719Z
LAST-MODIFIED:20260218T134719Z
UID:72007-1788393600-1788652799@podoslonami.pl
SUMMARY:33. Międzynarodowe Targi Roślin\, Technologii Ogrodniczej i Architektury Krajobrazu ZIELEŃ TO ŻYCIE
DESCRIPTION: Związek Szkółkarzy Polskich oraz Agencja Promocji Zieleni zapraszają na\n33. Międzynarodowe Targi Roślin\, Technologii Ogrodniczej i Architektury Krajobrazu ZIELEŃ TO ŻYCIE\,\nktóre odbędzie się: \nw dniach 3-5 września 2026 \nLokalizacja: Warszawa\, ul. Prądzyńskiego 12/14\, Centrum EXPO XXI \n\nMiędzynarodowe targi ZIELEŃ TO ŻYCIE prezentują rośliny ogrodowe\, techniki i technologie do produkcji roślin i terenów zieleni\, produkty i usługi dla ogrodnictwa\, wyposażenie ogrodów i zieleni miejskiej\, a także architekturę krajobrazu wraz z kwiatami ciętymi i doniczkowymi.
URL:https://podoslonami.pl/zapowiedz/33-miedzynarodowe-targi-roslin-technologii-ogrodniczej-i-architektury-krajobrazu-zielen-to-zycie/
LOCATION:Centrum EXPO XXI\, ul. Prądzyńskiego 12/14\, Warszawa
ATTACH;FMTTYPE=image/jpeg:https://podoslonami.pl/wp-content/uploads/2026/02/Zieleń-to-Życie.jpg
END:VEVENT
END:VCALENDAR