BEGIN:VCALENDAR
VERSION:2.0
PRODID:-//Pod Osłonami - ECPv6.15.17//NONSGML v1.0//EN
CALSCALE:GREGORIAN
METHOD:PUBLISH
X-WR-CALNAME:Pod Osłonami
X-ORIGINAL-URL:https://podoslonami.pl
X-WR-CALDESC:Wydarzenia dla Pod Osłonami
REFRESH-INTERVAL;VALUE=DURATION:PT1H
X-Robots-Tag:noindex
X-PUBLISHED-TTL:PT1H
BEGIN:VTIMEZONE
TZID:Europe/Paris
BEGIN:DAYLIGHT
TZOFFSETFROM:+0100
TZOFFSETTO:+0200
TZNAME:CEST
DTSTART:20250330T010000
END:DAYLIGHT
BEGIN:STANDARD
TZOFFSETFROM:+0200
TZOFFSETTO:+0100
TZNAME:CET
DTSTART:20251026T010000
END:STANDARD
BEGIN:DAYLIGHT
TZOFFSETFROM:+0100
TZOFFSETTO:+0200
TZNAME:CEST
DTSTART:20260329T010000
END:DAYLIGHT
BEGIN:STANDARD
TZOFFSETFROM:+0200
TZOFFSETTO:+0100
TZNAME:CET
DTSTART:20261025T010000
END:STANDARD
BEGIN:DAYLIGHT
TZOFFSETFROM:+0100
TZOFFSETTO:+0200
TZNAME:CEST
DTSTART:20270328T010000
END:DAYLIGHT
BEGIN:STANDARD
TZOFFSETFROM:+0200
TZOFFSETTO:+0100
TZNAME:CET
DTSTART:20271031T010000
END:STANDARD
END:VTIMEZONE
BEGIN:VEVENT
DTSTART;TZID=Europe/Paris:20260318T080000
DTEND;TZID=Europe/Paris:20260320T180000
DTSTAMP:20260425T221906
CREATED:20260129T181309Z
LAST-MODIFIED:20260129T181309Z
UID:71703-1773820800-1774029600@podoslonami.pl
SUMMARY:Tulip Trade Event 2026 – tulipanowe dni otwarte w Niderlandach
DESCRIPTION:Tegoroczna\, 7. odsłona holenderskich dni otwartych pod nazwą Tulip Trade Event potrwa od środy do piątku\, 18-20 marca. W ciągu tych trzech dni firmy zajmujące się hodowlą tulipanów oraz eksportem cebul otworzą – w dziesięciu lokalizacjach – swe podwoje dla gości: profesjonalistów z kraju i zagranicy. Uczestnicy TTE zaprezentują kwitnące pędzone tulipany (i inne wiosenne rośliny cebulowe)\, w setkach odmian. \nTTE – wydarzenie początkowo organizowane corocznie\, przeszło – po pandemicznej przerwie – w tryb „co 2 lata”. I tak\, poprzednia jego edycja odbyła się w 2024 r. \nhttps://www.podoslonami.pl/opinie/tulipany-i-sezon-sprzedazy-ich-kwiatow-tulip-trade-event-2024-cz-i/ \nTulip Trade Event 2026 – uczestnicy\nPodczas dni otwartych Tulip Trade Event 2026 goście będą mogli zapoznać się z ofertą dziesięciu holenderskich firm – z prowincji Holandia Północna (m.in. rejon miejscowości Alkmaar i Enkhuizen) oraz Holandia Południowa (okolice Lisse). Będą to: P. Aker\, Amsonia\, Boots Flowerbulbs\, BOT Flowerbulbs\, Haakman Flowerbulbs\, Holland Bulb Market\, P. Nelis & Zoon’s\, Nord Lommerse\, VWS Flowerbulbs oraz Jan de Wit en Zonen. \nOdmiany\, uprawa\, bieżące problemy tulipanowej branży\nUczestnicy ci zapraszają zainteresowanych do obejrzenia oferowanych odmian w fazie kwitnienia\, omówienia trendów i kierunków rozwoju sektora oraz wymiany poglądów na temat uprawy i rynku tulipanów\, zadawania ekspertom pytań dotyczących produkcji. \nOrganizatorzy informują\, że wśród gorących tematów\, które zapewne będą dyskutowane w trakcie TTE 2026\, znajdą się m.in.: przebarwiacz czosnkowy (gall mite) – groźny szkodnik cebul tulipanów\, który dodatkowo jest wektorem wirusa TVX; rosnące ceny cebul; przyjazna środowisku produkcja i jej certyfikacja jako wymóg stawiany przez hurtowych dystrybutorów (np. aukcję) holenderskim dostawcom. \nPodobnie jak w przypadku poprzednich edycji TTE\, także teraz te dni otwarte będą miejscem promocji nowości. Tulip Trade Event kładzie jednak nacisk przede wszystkim na handel (cebulami) – uczestnicy dni otwartych prezentują głównie osiągalny asortyment odmian z ofert eksporterów cebul.
URL:https://podoslonami.pl/zapowiedz/tulip-trade-event-2026-tulipanowe-dni-otwarte-w-niderlandach/
LOCATION:Holandia
ATTACH;FMTTYPE=image/jpeg:https://podoslonami.pl/wp-content/uploads/2026/01/Tulipan-Scarlet-Verona_fot.-A-Cecot_O-scaled.jpg
END:VEVENT
BEGIN:VEVENT
DTSTART;TZID=Europe/Paris:20260321T100000
DTEND;TZID=Europe/Paris:20260322T190000
DTSTAMP:20260425T221906
CREATED:20260224T144224Z
LAST-MODIFIED:20260224T144224Z
UID:72164-1774087200-1774206000@podoslonami.pl
SUMMARY:XVI Wystawa Tulipanów w Wilanowie.
DESCRIPTION:Organizatorzy – Muzeum Pałacu Króla Jana III w Wilanowie\, Stowarzyszenie Producentów Ozdobnych Roślin Cebulowych – już po raz szesnasty zapraszają miłośników tulipanów na wystawę poświęconą tym wiosennym kwiatom cebulowym. Wydarzenie odbędzie się pod patronatem Instytutu Ogrodnictwa – PIB Skierniewice oraz Europejskiego Szlaku Ogrodów Historycznych. \nTulipany w różnorodnych kształtach\, kolorach i kompozycjach – przyjdź i podziwiaj kilkadziesiąt odmian wyprodukowanych przez polskich ogrodników – zapraszają organizatorzy. \nMiejsce: XVI Wystawa Tulipanów odbędzie się w Oranżerii\, w Muzeum Pałacu Króla Jana III w Wilanowie.\nCzas: 21-22 marca\, 2026 r.\, godz. 10.30-19.00.\nW PROGRAMIE:\n\nwykłady\nwarsztaty\npokaz florystyczny\nporady ogrodnicze\nkiermasz kwiatowo-cebulowy.\n\nGdy pojawi się szczegółowy program będziemy Państwa informować. \nWystawie towarzyszyć będzie kiermasz kwiatowo-cebulowy oraz sprzedaż wydawnictw ogrodniczych:\n21– 22 marca 2026 r.\, godz. 10.30–17.00.\nWstęp na wystawę: bilet do parku\nBilety: www.wilanow-palac.pl/bilety/indywidualne oraz w kasie muzeum \nWięcej informacji:  \nwww.wilanow-palac.pl \nwww.kwiatycebulowe.pl
URL:https://podoslonami.pl/zapowiedz/xvi-wystawa-tulipanow-w-wilanowie-2/
LOCATION:Muzeum Pałacu Króla Jana III w Wilanowie\, ul. Stanisława Kostki Potockiego 10/16\, Warszawa\, 02-958
ATTACH;FMTTYPE=image/png:https://podoslonami.pl/wp-content/uploads/2026/02/Tulipany_1240x632.png
END:VEVENT
BEGIN:VEVENT
DTSTART;TZID=Europe/Paris:20260327T150000
DTEND;TZID=Europe/Paris:20260327T190000
DTSTAMP:20260425T221906
CREATED:20260319T151142Z
LAST-MODIFIED:20260319T151142Z
UID:72396-1774623600-1774638000@podoslonami.pl
SUMMARY:Spotkanie ogórkowo-pomidorowe
DESCRIPTION:Rijk Zwaan oraz Grodan serdecznie zapraszają na spotkanie ogórkowo-pomidorowe \nKiedy: 27 marca 2026 \nGdzie: Gospodarstwo Państwa Piotra i Anny Woźniaków\, ul. Witosa 6\, 62-811 Kościelna Wieś \nRozpoczęcie spotkania: godzina 15.00\nW programie: \n\nHodowla odpornościowa Rijk Zwaan jako odpowiedź na zagrożenia wirusowe w uprawie ogórków pod osłonami. Introdukcja nowej odmiany ogórka na jaką czeka wiele gospodarstw.\nTeganuma RZ F1 (72-BF4005) – krótka informacja po pierwszych zbiorach nowego pomidora malinowego.\nGrodan – lider w Polsce i na świecie w podłożach do profesjonalnej uprawy warzyw w szklarniach – najlepsze rozwiązania.\n\n  \nOrganizatorzy proszą o potwierdzenie uczestnictwa do dnia 23 marca 2026 \nKrzysztof Banaszak 604 448 790\nWojciech Wasiak 606 205 620\nMirosław Banach 609 571 285
URL:https://podoslonami.pl/zapowiedz/spotkanie-ogorkowo-pomidorowe/
LOCATION:Gospodarstwo Państwa Woźniaków\, ul. Witosa 6\, Kościelna Wieś\, 62-811
ATTACH;FMTTYPE=image/jpeg:https://podoslonami.pl/wp-content/uploads/2026/03/spotkanie-RZ-i-Grodan-scaled.jpg
END:VEVENT
BEGIN:VEVENT
DTSTART;TZID=Europe/Paris:20260331T103000
DTEND;TZID=Europe/Paris:20260331T123000
DTSTAMP:20260425T221906
CREATED:20260313T060457Z
LAST-MODIFIED:20260313T060522Z
UID:72315-1774953000-1774960200@podoslonami.pl
SUMMARY:Racjonalne nawożenie w uprawach ogrodniczych
DESCRIPTION:Instytut Ogrodnictwa – Państwowy Instytut Badawczy serdecznie zaprasza na szkolenie online pt. „Racjonalne nawożenie w uprawach ogrodniczych”\, które odbędzie się 31 marca 2026 r. o godz. 10:30. \nSzkolenie przygotowane zostało w ramach realizacji zadania celowego 4.1 „Racjonalne nawożenie”\, finansowanego przez Ministerstwo Rolnictwa i Rozwoju Wsi. \nW programie:\n• Zasady racjonalnego nawożenia w uprawach roślin;\n• Nawożenie roślin balkonowo-rabatowych. \n  \nZgłoszenia do 27 marca 2026 r. przyjmuje p. Agnieszka Bielenin (e-mail: Agnieszka.Bielenin@inhort.pl) z Zakładu Upowszechniania i Promocji IO-PIB. \n Po zarejestrowaniu uczestnik szkolenia otrzyma drogą elektroniczną potwierdzenie zgłoszenia\, a w dniu spotkania – około 30 minut przed rozpoczęciem – link dostępu. \nUdział w szkoleniu jest bezpłatny. \nDokładny program znajduje się na stronie: https://www.inhort.pl/wpcontent/uploads/2026/03/Program_szkolenia_Zadanie_Celowe_4_1_31_marca_2026.pdf
URL:https://podoslonami.pl/zapowiedz/racjonalne-nawozenie-w-uprawach-ogrodniczych/
END:VEVENT
END:VCALENDAR