BEGIN:VCALENDAR
VERSION:2.0
PRODID:-//Pod Osłonami - ECPv6.15.17//NONSGML v1.0//EN
CALSCALE:GREGORIAN
METHOD:PUBLISH
X-WR-CALNAME:Pod Osłonami
X-ORIGINAL-URL:https://podoslonami.pl
X-WR-CALDESC:Wydarzenia dla Pod Osłonami
REFRESH-INTERVAL;VALUE=DURATION:PT1H
X-Robots-Tag:noindex
X-PUBLISHED-TTL:PT1H
BEGIN:VTIMEZONE
TZID:Europe/Paris
BEGIN:DAYLIGHT
TZOFFSETFROM:+0100
TZOFFSETTO:+0200
TZNAME:CEST
DTSTART:20130331T010000
END:DAYLIGHT
BEGIN:STANDARD
TZOFFSETFROM:+0200
TZOFFSETTO:+0100
TZNAME:CET
DTSTART:20131027T010000
END:STANDARD
BEGIN:DAYLIGHT
TZOFFSETFROM:+0100
TZOFFSETTO:+0200
TZNAME:CEST
DTSTART:20140330T010000
END:DAYLIGHT
BEGIN:STANDARD
TZOFFSETFROM:+0200
TZOFFSETTO:+0100
TZNAME:CET
DTSTART:20141026T010000
END:STANDARD
BEGIN:DAYLIGHT
TZOFFSETFROM:+0100
TZOFFSETTO:+0200
TZNAME:CEST
DTSTART:20150329T010000
END:DAYLIGHT
BEGIN:STANDARD
TZOFFSETFROM:+0200
TZOFFSETTO:+0100
TZNAME:CET
DTSTART:20151025T010000
END:STANDARD
END:VTIMEZONE
BEGIN:VEVENT
DTSTART;TZID=Europe/Paris:20140610T080000
DTEND;TZID=Europe/Paris:20140613T170000
DTSTAMP:20260419T161429
CREATED:20140412T212603Z
LAST-MODIFIED:20140412T212741Z
UID:5750-1402387200-1402678800@podoslonami.pl
SUMMARY:FlowerTrials 2014
DESCRIPTION:
URL:https://podoslonami.pl/zapowiedz/flowertrials-2014/
LOCATION:Holandia\, Niemcy\, Aalsmeer\, Westland\, Nadrenia Północna-Westfalia
ATTACH;FMTTYPE=image/jpeg:https://podoslonami.pl/wp-content/uploads/2014/04/logo_FT_RGB-591x591.jpg
ORGANIZER;CN="European FlowerTrials%C2%AE Foundation":MAILTO:organization@flowertrials.nl
END:VEVENT
END:VCALENDAR