BEGIN:VCALENDAR
VERSION:2.0
PRODID:-//Pod Osłonami - ECPv6.15.17//NONSGML v1.0//EN
CALSCALE:GREGORIAN
METHOD:PUBLISH
X-ORIGINAL-URL:https://podoslonami.pl
X-WR-CALDESC:Wydarzenia dla Pod Osłonami
REFRESH-INTERVAL;VALUE=DURATION:PT1H
X-Robots-Tag:noindex
X-PUBLISHED-TTL:PT1H
BEGIN:VTIMEZONE
TZID:Europe/Paris
BEGIN:DAYLIGHT
TZOFFSETFROM:+0100
TZOFFSETTO:+0200
TZNAME:CEST
DTSTART:20190331T010000
END:DAYLIGHT
BEGIN:STANDARD
TZOFFSETFROM:+0200
TZOFFSETTO:+0100
TZNAME:CET
DTSTART:20191027T010000
END:STANDARD
BEGIN:DAYLIGHT
TZOFFSETFROM:+0100
TZOFFSETTO:+0200
TZNAME:CEST
DTSTART:20200329T010000
END:DAYLIGHT
BEGIN:STANDARD
TZOFFSETFROM:+0200
TZOFFSETTO:+0100
TZNAME:CET
DTSTART:20201025T010000
END:STANDARD
BEGIN:DAYLIGHT
TZOFFSETFROM:+0100
TZOFFSETTO:+0200
TZNAME:CEST
DTSTART:20210328T010000
END:DAYLIGHT
BEGIN:STANDARD
TZOFFSETFROM:+0200
TZOFFSETTO:+0100
TZNAME:CET
DTSTART:20211031T010000
END:STANDARD
END:VTIMEZONE
BEGIN:VEVENT
DTSTART;VALUE=DATE:20200225
DTEND;VALUE=DATE:20200229
DTSTAMP:20260422T194813
CREATED:20200221T224852Z
LAST-MODIFIED:20200224T101744Z
UID:32911-1582588800-1582934399@podoslonami.pl
SUMMARY:Targi Special Days i konkurs dla kwiaciarń
DESCRIPTION:Targi Produktów Świątecznych i Okazjonalnych Special Days\, organizowane w Poznaniu przez Grupę MTP\, są przeznaczone m.in. dla florystów. \nTargom\, jak co roku\, towarzyszyć będzie Konkurs dla Kwiaciarń\, organizowany przez poznański oddział Stowarzyszenia Inżynierów i Techników Ogrodnictwa. Tematy prac konkursowych to „Rok 2020 Rokiem Papieskim” oraz „100-lecie uzyskania niepodległości”. \nPrace należy dostarczyć 25 lutego do godziny 12.00 do pawilonu nr 2 Międzynarodowych Targów Poznańskich przy ul. Głogowskiej. \nOceny prac dokona jury\, które zwracać będzie uwagę na: \n\ninnowacyjność;\nkoncepcję\, m.in. dobór gatunków\, barw\, rozmieszczenie elementów;\ntechnikę wykonania.\n\nPrzewiduje się dyplomy oraz nagrody finansowe. \nWięcej informacji nt. konkursu można znaleźć tutaj
URL:https://podoslonami.pl/zapowiedz/konkurs-dla-kwiaciarn/
LOCATION:Międzynarodowe Targi Poznańskie\, Głogowska 14\, Poznań\, 60-734\, Polska
ATTACH;FMTTYPE=image/jpeg:https://podoslonami.pl/wp-content/uploads/2020/02/200-x-300-.jpg
END:VEVENT
END:VCALENDAR