BEGIN:VCALENDAR
VERSION:2.0
PRODID:-//Pod Osłonami - ECPv6.15.17//NONSGML v1.0//EN
CALSCALE:GREGORIAN
METHOD:PUBLISH
X-WR-CALNAME:Pod Osłonami
X-ORIGINAL-URL:https://podoslonami.pl
X-WR-CALDESC:Wydarzenia dla Pod Osłonami
REFRESH-INTERVAL;VALUE=DURATION:PT1H
X-Robots-Tag:noindex
X-PUBLISHED-TTL:PT1H
BEGIN:VTIMEZONE
TZID:Europe/Paris
BEGIN:DAYLIGHT
TZOFFSETFROM:+0100
TZOFFSETTO:+0200
TZNAME:CEST
DTSTART:20150329T010000
END:DAYLIGHT
BEGIN:STANDARD
TZOFFSETFROM:+0200
TZOFFSETTO:+0100
TZNAME:CET
DTSTART:20151025T010000
END:STANDARD
BEGIN:DAYLIGHT
TZOFFSETFROM:+0100
TZOFFSETTO:+0200
TZNAME:CEST
DTSTART:20160327T010000
END:DAYLIGHT
BEGIN:STANDARD
TZOFFSETFROM:+0200
TZOFFSETTO:+0100
TZNAME:CET
DTSTART:20161030T010000
END:STANDARD
BEGIN:DAYLIGHT
TZOFFSETFROM:+0100
TZOFFSETTO:+0200
TZNAME:CEST
DTSTART:20170326T010000
END:DAYLIGHT
BEGIN:STANDARD
TZOFFSETFROM:+0200
TZOFFSETTO:+0100
TZNAME:CET
DTSTART:20171029T010000
END:STANDARD
BEGIN:DAYLIGHT
TZOFFSETFROM:+0100
TZOFFSETTO:+0200
TZNAME:CEST
DTSTART:20180325T010000
END:DAYLIGHT
BEGIN:STANDARD
TZOFFSETFROM:+0200
TZOFFSETTO:+0100
TZNAME:CET
DTSTART:20181028T010000
END:STANDARD
BEGIN:DAYLIGHT
TZOFFSETFROM:+0100
TZOFFSETTO:+0200
TZNAME:CEST
DTSTART:20190331T010000
END:DAYLIGHT
BEGIN:STANDARD
TZOFFSETFROM:+0200
TZOFFSETTO:+0100
TZNAME:CET
DTSTART:20191027T010000
END:STANDARD
BEGIN:DAYLIGHT
TZOFFSETFROM:+0100
TZOFFSETTO:+0200
TZNAME:CEST
DTSTART:20200329T010000
END:DAYLIGHT
BEGIN:STANDARD
TZOFFSETFROM:+0200
TZOFFSETTO:+0100
TZNAME:CET
DTSTART:20201025T010000
END:STANDARD
END:VTIMEZONE
BEGIN:VEVENT
DTSTART;VALUE=DATE:20190604
DTEND;VALUE=DATE:20190608
DTSTAMP:20260421T135514
CREATED:20190328T161552Z
LAST-MODIFIED:20190328T161641Z
UID:30000-1559606400-1559951999@podoslonami.pl
SUMMARY:Dutch Lily Days (4-7 VI)
DESCRIPTION:W 9. edycji dni otwartych holenderskich firm zajmujących się hodowlą lilii oraz dystrybucją cebul tych roślin weźmie udział 14 przedsiębiorstw\, których siedziby zlokalizowane są w dwóch regionach na zachodzie Holandii\, w nadbrzeżnym pasie\, między Naaldwijk a Breezand i Andijk. \nCelem uczestników DLD jest pokazanie pełnego asortymentu oferowanych odmian w okresie kwitnienia lilii w szklarniach (szczegóły na www.dutchlilydays.com).
URL:https://podoslonami.pl/zapowiedz/dutch-lily-days-4-7-vi/
ATTACH;FMTTYPE=image/png:https://podoslonami.pl/wp-content/uploads/2019/03/logo-dutch-lily-days.png
END:VEVENT
BEGIN:VEVENT
DTSTART;VALUE=DATE:20160607
DTEND;VALUE=DATE:20160611
DTSTAMP:20260421T135514
CREATED:20151221T132056Z
LAST-MODIFIED:20151221T132410Z
UID:14574-1465257600-1465603199@podoslonami.pl
SUMMARY:Dutch Lily Days
DESCRIPTION:Dutch Lily Days po raz kolejny odbędzie się na tydzień przed Flower Trials. Przeniesienie dni otwartych na początek czerwca miało wyraźnie pozytywny wpływ na zainteresowanie wydarzeniem. W 2016 roku uczestniczące firmy otworzą swoje drzwi od 7 do 10 czerwca. \nPrzeczytaj relację z Dutch Lily Days 2015
URL:https://podoslonami.pl/zapowiedz/dutch-lily-days-2/
ATTACH;FMTTYPE=image/png:https://podoslonami.pl/wp-content/uploads/2015/12/Dutch-Lily-Days-2016.png
END:VEVENT
END:VCALENDAR