BEGIN:VCALENDAR
VERSION:2.0
PRODID:-//Pod Osłonami - ECPv6.15.17//NONSGML v1.0//EN
CALSCALE:GREGORIAN
METHOD:PUBLISH
X-WR-CALNAME:Pod Osłonami
X-ORIGINAL-URL:https://podoslonami.pl
X-WR-CALDESC:Wydarzenia dla Pod Osłonami
REFRESH-INTERVAL;VALUE=DURATION:PT1H
X-Robots-Tag:noindex
X-PUBLISHED-TTL:PT1H
BEGIN:VTIMEZONE
TZID:Europe/Paris
BEGIN:DAYLIGHT
TZOFFSETFROM:+0100
TZOFFSETTO:+0200
TZNAME:CEST
DTSTART:20140330T010000
END:DAYLIGHT
BEGIN:STANDARD
TZOFFSETFROM:+0200
TZOFFSETTO:+0100
TZNAME:CET
DTSTART:20141026T010000
END:STANDARD
BEGIN:DAYLIGHT
TZOFFSETFROM:+0100
TZOFFSETTO:+0200
TZNAME:CEST
DTSTART:20150329T010000
END:DAYLIGHT
BEGIN:STANDARD
TZOFFSETFROM:+0200
TZOFFSETTO:+0100
TZNAME:CET
DTSTART:20151025T010000
END:STANDARD
BEGIN:DAYLIGHT
TZOFFSETFROM:+0100
TZOFFSETTO:+0200
TZNAME:CEST
DTSTART:20160327T010000
END:DAYLIGHT
BEGIN:STANDARD
TZOFFSETFROM:+0200
TZOFFSETTO:+0100
TZNAME:CET
DTSTART:20161030T010000
END:STANDARD
END:VTIMEZONE
BEGIN:VEVENT
DTSTART;TZID=Europe/Paris:20150809T150000
DTEND;TZID=Europe/Paris:20150809T180000
DTSTAMP:20260424T211350
CREATED:20150803T084504Z
LAST-MODIFIED:20150803T103753Z
UID:12634-1439132400-1439143200@podoslonami.pl
SUMMARY:Prezentacja papryk odmian HM. Clause
DESCRIPTION:9 sierpnia 2015 o 15.00\, w gospodarstwie Pana Andrzeja Krzywkowskiego odbędzie się prezentacja papryk odmian HM. Clause. Spotkanie organizowane jest we współpracy z firmą Intermag i Koppert Biological Systems. \nSerdecznie zapraszamy! \n 
URL:https://podoslonami.pl/zapowiedz/prezentacja-papryk-odmian-hm-clause/
LOCATION:Nienazwane Miejsce\, ul. Przysuska 25\, Potworów\, 26-414\, Polska
ATTACH;FMTTYPE=image/jpeg:https://podoslonami.pl/wp-content/uploads/2015/08/vegetable-371910_1280.jpg
END:VEVENT
END:VCALENDAR