BEGIN:VCALENDAR
VERSION:2.0
PRODID:-//Pod Osłonami - ECPv6.15.17//NONSGML v1.0//EN
CALSCALE:GREGORIAN
METHOD:PUBLISH
X-ORIGINAL-URL:https://podoslonami.pl
X-WR-CALDESC:Wydarzenia dla Pod Osłonami
REFRESH-INTERVAL;VALUE=DURATION:PT1H
X-Robots-Tag:noindex
X-PUBLISHED-TTL:PT1H
BEGIN:VTIMEZONE
TZID:Europe/Paris
BEGIN:DAYLIGHT
TZOFFSETFROM:+0100
TZOFFSETTO:+0200
TZNAME:CEST
DTSTART:20180325T010000
END:DAYLIGHT
BEGIN:STANDARD
TZOFFSETFROM:+0200
TZOFFSETTO:+0100
TZNAME:CET
DTSTART:20181028T010000
END:STANDARD
BEGIN:DAYLIGHT
TZOFFSETFROM:+0100
TZOFFSETTO:+0200
TZNAME:CEST
DTSTART:20190331T010000
END:DAYLIGHT
BEGIN:STANDARD
TZOFFSETFROM:+0200
TZOFFSETTO:+0100
TZNAME:CET
DTSTART:20191027T010000
END:STANDARD
BEGIN:DAYLIGHT
TZOFFSETFROM:+0100
TZOFFSETTO:+0200
TZNAME:CEST
DTSTART:20200329T010000
END:DAYLIGHT
BEGIN:STANDARD
TZOFFSETFROM:+0200
TZOFFSETTO:+0100
TZNAME:CET
DTSTART:20201025T010000
END:STANDARD
END:VTIMEZONE
BEGIN:VEVENT
DTSTART;TZID=Europe/Paris:20191211T160000
DTEND;TZID=Europe/Paris:20191211T190000
DTSTAMP:20260422T172302
CREATED:20191204T221527Z
LAST-MODIFIED:20191204T222227Z
UID:32276-1576080000-1576090800@podoslonami.pl
SUMMARY:Seminarium paprykowe
DESCRIPTION:Nowa kreacja papryki\, Maximinus będzie głównym tematem seminarium organizowanego przez Seminis i firmy współorganizujące (Rol-Mar Marek Pankowski; Grupa Inco i Budmech). \nProgram: \n\nMaximinus: Maksymalna papryka – wczesność\, wybarwienie\, jakość – Piotr Dutkowski (Seminis)\nAspekty techniczne nawodnienia i fertygacji – Mariusz Brzeziński\, Andrzej Szerszeniewski (Budmech)\nOferta produktowa z gamy Florovit Agro – Ryszard Przybylski (Grupa Inco)\n\nPo szkoleniu dla uczestników seminarium przewidziany jest poczęstunek. \nOsoba kontaktowa: Piotr Dutkowski – tel. 660 507 692
URL:https://podoslonami.pl/zapowiedz/seminarium-paprykowe/
LOCATION:Zajazd Lwowski w Klwowie\, Opoczyńska 45a\, Klwów\, 26-415\, Polska
ATTACH;FMTTYPE=image/jpeg:https://podoslonami.pl/wp-content/uploads/2019/12/przeskalowane-papryka.jpg
END:VEVENT
END:VCALENDAR