BEGIN:VCALENDAR
VERSION:2.0
PRODID:-//Pod Osłonami - ECPv6.15.17//NONSGML v1.0//EN
CALSCALE:GREGORIAN
METHOD:PUBLISH
X-WR-CALNAME:Pod Osłonami
X-ORIGINAL-URL:https://podoslonami.pl
X-WR-CALDESC:Wydarzenia dla Pod Osłonami
REFRESH-INTERVAL;VALUE=DURATION:PT1H
X-Robots-Tag:noindex
X-PUBLISHED-TTL:PT1H
BEGIN:VTIMEZONE
TZID:Europe/Paris
BEGIN:DAYLIGHT
TZOFFSETFROM:+0100
TZOFFSETTO:+0200
TZNAME:CEST
DTSTART:20140330T010000
END:DAYLIGHT
BEGIN:STANDARD
TZOFFSETFROM:+0200
TZOFFSETTO:+0100
TZNAME:CET
DTSTART:20141026T010000
END:STANDARD
BEGIN:DAYLIGHT
TZOFFSETFROM:+0100
TZOFFSETTO:+0200
TZNAME:CEST
DTSTART:20150329T010000
END:DAYLIGHT
BEGIN:STANDARD
TZOFFSETFROM:+0200
TZOFFSETTO:+0100
TZNAME:CET
DTSTART:20151025T010000
END:STANDARD
BEGIN:DAYLIGHT
TZOFFSETFROM:+0100
TZOFFSETTO:+0200
TZNAME:CEST
DTSTART:20160327T010000
END:DAYLIGHT
BEGIN:STANDARD
TZOFFSETFROM:+0200
TZOFFSETTO:+0100
TZNAME:CET
DTSTART:20161030T010000
END:STANDARD
END:VTIMEZONE
BEGIN:VEVENT
DTSTART;TZID=Europe/Paris:20150723T090000
DTEND;TZID=Europe/Paris:20150723T163000
DTSTAMP:20260421T135514
CREATED:20150714T125113Z
LAST-MODIFIED:20150714T125113Z
UID:12349-1437642000-1437669000@podoslonami.pl
SUMMARY:Instytut Ogrodnictwa w Skierniewicach zaprasza na Dzień Otwarty
DESCRIPTION:PROGRAM \nDnia Otwartych Drzwi Instytutu Ogrodnictwa \nPola doświadczalne upraw warzywnych w Skierniewicach 23 lipca 2015 r. \nInstytut Ogrodnictwa\, ul. Rybickiego 15/17 \n09.00 – 09.30 Otwarcie spotkania i powitanie uczestników Prof. dr hab. Małgorzata Korbin – Dyrektor Instytutu Ogrodnictwa Wystąpienia Gości \n09.00 – 16.00 Panorama Firm uczestniczących w Dniu Otwartych Drzwi \n09.00 – 16.00  Kiermasz Wydawnictw Instytutu Ogrodnictwa\, prezentacja projektów realizowanych w Instytucie Ogrodnictwa (w tym HortiEnergia\, Trichoderma) \n09.45 – 11.00 Letnie wykłady – aktualne prace prowadzone w Instytucie Ogrodnictwa z zakresu roślin warzywnych: \n09.45 – 10.00 Aktualne zagrożenia chorobami upraw warzyw w polu i pod osłonami i możliwości ich zwalczania – prof. dr hab. Józef Robak\, dr Jan Sobolewski\, dr Agnieszka Włodarek \n10.00 – 10.15 Aktualne zagrożenia przez szkodniki w uprawie warzyw w polu i pod osłonami prof. dr hab. Gabriel Łabanowski\, dr Piotr Szafranek \n10.15 – 10.30 Prognoza trwałości przechowalniczej warzyw w sezonie 2015/2016 prof. dr hab. Franciszek Adamicki \n10.30 – 10.45 Główne kierunki hodowli marchwi – mgr Renata Nowak\, prof. dr hab. Elżbieta U. Kozik \n10.45 – 11.00 Warzywa minimalnie przetworzone: korzyści i zagrożenia – dr Maria Grzegorzewska \n11.00 – 14.00 Poradnictwo i konsultacje pracowników naukowych Instytutu Ogrodnictwa \n11.00 – 11.45 Prezentacja doświadczeń prowadzonych w szklarni doświadczalnej\, tunelach\, mikropoletkach i kwaterze I \n11.45 – 12.05 Prezentacja doświadczeń z zakresu uprawy grzybów uprawnych \n12.05 – 12.15 Przejazd na Pole Doświadczalne nr 2\, ul. Rybickiego 21 \nInstytut Ogrodnictwa\, Pole Doświadczalne nr 2\, ul. Rybickiego 21 \n12.15 – 13.00 Prezentacja doświadczeń na polu nr 2 \n13.00 – 13.15 Powrotny przejazd na ulicę Rybickiego 15/17 \nInstytut Ogrodnictwa\, ul. Rybickiego 15/17 \n13.15 – 14.00 Degustacja pieczarek faszerowanych (Stowarzyszenie Branży Grzybów Uprawnych) \n14.00 – 14.15 Przejazd do Pracowni Chorób Roślin Warzywnych i Ozdobnych\, ul. Kościuszki 2 \nInstytut Ogrodnictwa\, Pracownia Chorób Roślin Warzywnych i Ozdobnych\, ul. Kościuszki 2 \n14.15 – 15.30 Kierunki badań z zakresu ochrony roślin warzywnych przed chorobami – prezentacja doświadczeń Instytut Ogrodnictwa\, Pałac Prymasowski\, ul. Konstytucji 3 Maja 1/3 \n15.45 – 16.30 Zwiedzanie Pałacu Prymasowskiego – siedziby Instytutu Ogrodnictwa (dla osób zainteresowanych – po wcześniejszym zgłoszeniu w rejestracji Dnia Otwartych Drzwi)
URL:https://podoslonami.pl/zapowiedz/instytut-ogrodnictwa-w-skierniewicach-zaprasza-na-dzien-otwarty/
LOCATION:Instytut Ogrodnictwa\, ul. Konstytucji 3 Maja 1/3\,\, Skierniewice\, 96-100\, Polska
ATTACH;FMTTYPE=image/jpeg:https://podoslonami.pl/wp-content/uploads/2015/07/skierniewice.jpg
END:VEVENT
END:VCALENDAR