BEGIN:VCALENDAR
VERSION:2.0
PRODID:-//Pod Osłonami - ECPv6.15.17//NONSGML v1.0//EN
CALSCALE:GREGORIAN
METHOD:PUBLISH
X-WR-CALNAME:Pod Osłonami
X-ORIGINAL-URL:https://podoslonami.pl
X-WR-CALDESC:Wydarzenia dla Pod Osłonami
REFRESH-INTERVAL;VALUE=DURATION:PT1H
X-Robots-Tag:noindex
X-PUBLISHED-TTL:PT1H
BEGIN:VTIMEZONE
TZID:Europe/Paris
BEGIN:DAYLIGHT
TZOFFSETFROM:+0100
TZOFFSETTO:+0200
TZNAME:CEST
DTSTART:20150329T010000
END:DAYLIGHT
BEGIN:STANDARD
TZOFFSETFROM:+0200
TZOFFSETTO:+0100
TZNAME:CET
DTSTART:20151025T010000
END:STANDARD
BEGIN:DAYLIGHT
TZOFFSETFROM:+0100
TZOFFSETTO:+0200
TZNAME:CEST
DTSTART:20160327T010000
END:DAYLIGHT
BEGIN:STANDARD
TZOFFSETFROM:+0200
TZOFFSETTO:+0100
TZNAME:CET
DTSTART:20161030T010000
END:STANDARD
BEGIN:DAYLIGHT
TZOFFSETFROM:+0100
TZOFFSETTO:+0200
TZNAME:CEST
DTSTART:20170326T010000
END:DAYLIGHT
BEGIN:STANDARD
TZOFFSETFROM:+0200
TZOFFSETTO:+0100
TZNAME:CET
DTSTART:20171029T010000
END:STANDARD
END:VTIMEZONE
BEGIN:VEVENT
DTSTART;VALUE=DATE:20161008
DTEND;VALUE=DATE:20161010
DTSTAMP:20260419T161502
CREATED:20160930T140226Z
LAST-MODIFIED:20160930T140819Z
UID:19259-1475884800-1476057599@podoslonami.pl
SUMMARY:Dni otwarte Gospodarstw Ogrodniczych Turscy i Szerypo
DESCRIPTION:Violetta\, Ryszard i Łukasz Turscy wraz z Agnieszką i Pawłem Szerypo zapraszaj do Rzgowa na dni otwarte swoich gospodarstw. \nW czasie spotkania prezentowane będą nowe odmiany roślin uprawianych w tych gospodarstwach i technologie. Będzie można również zasięgnąć rad specjalistów. \nZapraszamy do Rzgowa!
URL:https://podoslonami.pl/zapowiedz/dni-otwarte-gospodarstwa-ogrodniczego-turscy-szerypo/
LOCATION:Gospodarstwo Turscy\, Łódzka 15\, Rzgów\, 95-030\, Polska
ATTACH;FMTTYPE=image/jpeg:https://podoslonami.pl/wp-content/uploads/2015/10/DSC04321_Penelope_m.jpg
END:VEVENT
END:VCALENDAR