BEGIN:VCALENDAR
VERSION:2.0
PRODID:-//Pod Osłonami - ECPv6.15.17//NONSGML v1.0//EN
CALSCALE:GREGORIAN
METHOD:PUBLISH
X-ORIGINAL-URL:https://podoslonami.pl
X-WR-CALDESC:Wydarzenia dla Pod Osłonami
REFRESH-INTERVAL;VALUE=DURATION:PT1H
X-Robots-Tag:noindex
X-PUBLISHED-TTL:PT1H
BEGIN:VTIMEZONE
TZID:Europe/Paris
BEGIN:DAYLIGHT
TZOFFSETFROM:+0100
TZOFFSETTO:+0200
TZNAME:CEST
DTSTART:20140330T010000
END:DAYLIGHT
BEGIN:STANDARD
TZOFFSETFROM:+0200
TZOFFSETTO:+0100
TZNAME:CET
DTSTART:20141026T010000
END:STANDARD
BEGIN:DAYLIGHT
TZOFFSETFROM:+0100
TZOFFSETTO:+0200
TZNAME:CEST
DTSTART:20150329T010000
END:DAYLIGHT
BEGIN:STANDARD
TZOFFSETFROM:+0200
TZOFFSETTO:+0100
TZNAME:CET
DTSTART:20151025T010000
END:STANDARD
BEGIN:DAYLIGHT
TZOFFSETFROM:+0100
TZOFFSETTO:+0200
TZNAME:CEST
DTSTART:20160327T010000
END:DAYLIGHT
BEGIN:STANDARD
TZOFFSETFROM:+0200
TZOFFSETTO:+0100
TZNAME:CET
DTSTART:20161030T010000
END:STANDARD
END:VTIMEZONE
BEGIN:VEVENT
DTSTART;VALUE=DATE:20150725
DTEND;VALUE=DATE:20150727
DTSTAMP:20260419T214716
CREATED:20150709T092237Z
LAST-MODIFIED:20150709T092237Z
UID:12286-1437782400-1437955199@podoslonami.pl
SUMMARY:Dni otwarte firmy Volmary
DESCRIPTION:Firma Volmary ma zaszczyt zaprosić Państwa na Dni Otwarte w czasie których zostanie zaprezentowany szeroki asortyment produkowanych przez nas roślin\, w naturalnej letniej scenerii. Dni Otwarte odbędą się 25 i 26 lipca 2015 w godz. 8.30–16.00 w siedzibie Firmy w Gawartowej Woli k/Błonia. Wystawa kwiatów wzbogacona będzie specjalistycznymi prelekcjami wybitnych fachowców z branży ogrodniczej oraz loterią fantową – do wylosowania 100 paletek pelargonii Grandeur Butterfly. \nProgram: \n08.30: rozpoczęcie Dni Otwartych w firmie Volmary\, przywitanie Gości\, oglądanie kolekcji roślin \n9.30 – 10.30 przedstawienie nowości w ofercie firmy Volmary na sezon wiosenny 2016 \n10.30 – 13.00 seminaria tematyczne: \nsobota 25.07 : \nprof. dr hab. Adam Wojdyła „ Najczęściej występujące choroby roślin balkonowych i rabatowych oraz możliwości Ich zwalczania” \nprof. dr hab. Grażyna Soika „Najczęściej występujące szkodniki roślin balkonowych i rabatowych oraz możliwości ich zwalczania” \nniedziela 26.07: \nAndrzej Pacholczak „Ochrona roślin ozdobnych przed chorobami i szkodnikami” \ndr Agata Jedrzejuk „Dekoracyjne przez cały rok – zasady nawożenia roślin ozdobnych” \n13.00 – 14.30 Lunch
URL:https://podoslonami.pl/zapowiedz/dni-otwarte-firmy-volmary/
LOCATION:Nienazwane Miejsce\, Gawartowa Wola 3\, Kampinos\, 05-085\, Polska
ATTACH;FMTTYPE=image/jpeg:https://podoslonami.pl/wp-content/uploads/2015/07/Volmary.jpeg
ORGANIZER;CN="Volmary Sp. z o.o.":MAILTO:biuro@volmary.p
END:VEVENT
END:VCALENDAR