BEGIN:VCALENDAR
VERSION:2.0
PRODID:-//Pod Osłonami - ECPv6.15.17//NONSGML v1.0//EN
CALSCALE:GREGORIAN
METHOD:PUBLISH
X-WR-CALNAME:Pod Osłonami
X-ORIGINAL-URL:https://podoslonami.pl
X-WR-CALDESC:Wydarzenia dla Pod Osłonami
REFRESH-INTERVAL;VALUE=DURATION:PT1H
X-Robots-Tag:noindex
X-PUBLISHED-TTL:PT1H
BEGIN:VTIMEZONE
TZID:Europe/Paris
BEGIN:DAYLIGHT
TZOFFSETFROM:+0100
TZOFFSETTO:+0200
TZNAME:CEST
DTSTART:20140330T010000
END:DAYLIGHT
BEGIN:STANDARD
TZOFFSETFROM:+0200
TZOFFSETTO:+0100
TZNAME:CET
DTSTART:20141026T010000
END:STANDARD
BEGIN:DAYLIGHT
TZOFFSETFROM:+0100
TZOFFSETTO:+0200
TZNAME:CEST
DTSTART:20150329T010000
END:DAYLIGHT
BEGIN:STANDARD
TZOFFSETFROM:+0200
TZOFFSETTO:+0100
TZNAME:CET
DTSTART:20151025T010000
END:STANDARD
BEGIN:DAYLIGHT
TZOFFSETFROM:+0100
TZOFFSETTO:+0200
TZNAME:CEST
DTSTART:20160327T010000
END:DAYLIGHT
BEGIN:STANDARD
TZOFFSETFROM:+0200
TZOFFSETTO:+0100
TZNAME:CET
DTSTART:20161030T010000
END:STANDARD
BEGIN:DAYLIGHT
TZOFFSETFROM:+0100
TZOFFSETTO:+0200
TZNAME:CEST
DTSTART:20170326T010000
END:DAYLIGHT
BEGIN:STANDARD
TZOFFSETFROM:+0200
TZOFFSETTO:+0100
TZNAME:CET
DTSTART:20171029T010000
END:STANDARD
BEGIN:DAYLIGHT
TZOFFSETFROM:+0100
TZOFFSETTO:+0200
TZNAME:CEST
DTSTART:20180325T010000
END:DAYLIGHT
BEGIN:STANDARD
TZOFFSETFROM:+0200
TZOFFSETTO:+0100
TZNAME:CET
DTSTART:20181028T010000
END:STANDARD
BEGIN:DAYLIGHT
TZOFFSETFROM:+0100
TZOFFSETTO:+0200
TZNAME:CEST
DTSTART:20190331T010000
END:DAYLIGHT
BEGIN:STANDARD
TZOFFSETFROM:+0200
TZOFFSETTO:+0100
TZNAME:CET
DTSTART:20191027T010000
END:STANDARD
END:VTIMEZONE
BEGIN:VEVENT
DTSTART;TZID=Europe/Paris:20180906T110000
DTEND;TZID=Europe/Paris:20180906T143000
DTSTAMP:20260425T134347
CREATED:20180717T043927Z
LAST-MODIFIED:20180717T043927Z
UID:27757-1536231600-1536244200@podoslonami.pl
SUMMARY:Seminarium Horti Flower Show
DESCRIPTION:Podczas targów „Zieleń to Życie” w sali konferencyjnej C1 na I piętrze odbędzie się seminarium adresowane do producentów roślin\, właścicieli firm zakładających tereny zieleni oraz innych związanych z branżą\,  pt. Potencjał ogrodnictwa miejskiego – jak zaspokoić potrzeby dzisiejszych konsumentów?  W programie diagnoza oczekiwań współczesnego konsumenta roślin i jego zmieniających się zwyczajów zakupowych\, nowości\, które są odpowiedzią na zmieniające się trendy i przykłady działań\, wspierających sprzedaż. Wstęp wolny po uprzedniej rejestracji na www.zielentozycie.pl \nProgram seminarium: \n\nKonsument XXI wieku – nabywca roślin – wykład wprowadzający wygłosi Jarosław Olewicz (wydawca Biznesu Ogrodniczego)\,\nByliny w nowej odsłonie – mały luksus dla każdego – Mariusz Federowicz (Florensis) zaprezentuje zaskakujące byliny dla wygodnych i wymagających konsumentów\, takie jak szałwie z grupy Marvel i Mysty czy lawendę Spear Blue\,\nRóże – współczesne oblicze królowej kwiatów – O walorach róż – nie tylko dekoracyjnych\, o tym jakie róże warto polecać do miejsc\, w których chcą je widzieć klienci opowie Anna Osiecka (Haubitz)\,\nEkscytujące rośliny proste w obsłudze – Paweł Marcinkowski (Plantpol) zainspiruje do wprowadzania nowych wyróżniających produktów skierowanych do klientów dopiero zaczynających swoją przygodę z roślinami\,\nCalliope – pelargonia z dużym potencjałem – Bartłomiej Pierzchalski (Syngenta) zaprezentuje nową odmianę pelargonii\, rośliny odkrywanej na nowo\,\nTrawy ozdobne i turzyce – niezastąpiony element ogrodów w mieście – Tomasz Michalik (Vitroflora) przedstawi gatunki i odmiany popularnych i modnych roślin z rodziny traw i turzyc\,\nSmaki z balkonowej grządki – jak być gotowym na nowy trend uprawiania warzyw\, ziół i owoców na tarasach i balkonach? – Sebastian Gałązka (Volmary) opowie o polecanych odmianach warzyw – także szczepionych\, ziół i owocowych krzewów do amatorskiej uprawy w pojemnikach  i ciekawostkach wzbudzających zainteresowanie klientów\,\nEkspozycja roślin i komunikacja kluczem do zwiększenia sprzedaży – Jarosław Olewicz (Biznes Ogrodniczy) opowie o tym jak mówić o atutach roślin i korzyściach\, jakie niosą\, a także jak prezentować rośliny\, by zyskać zainteresowanie i zwiększyć sprzedaż.
URL:https://podoslonami.pl/zapowiedz/seminarium-horti-flower-show/
LOCATION:Centrum EXPO XXI\, ul. Prądzyńskiego 12/14\, Warszawa
ATTACH;FMTTYPE=image/png:https://podoslonami.pl/wp-content/uploads/2018/07/2018-07-10-2-1.png
END:VEVENT
BEGIN:VEVENT
DTSTART;VALUE=DATE:20150903
DTEND;VALUE=DATE:20150906
DTSTAMP:20260425T134347
CREATED:20150430T115524Z
LAST-MODIFIED:20150430T142845Z
UID:11272-1441238400-1441497599@podoslonami.pl
SUMMARY:Zieleń to życie
DESCRIPTION:Po raz 23 w Warszawie organizowana będzie wystawa Zieleń to Życie.  Wydarzenie trwa od 3-5 września 2015r. Hasło tegorocznego wydarzenia to „Obudź emocje”\, zachęcające do rozbudzenia potencjału  marketingowego roślin i powiązanych materiałów. Dwa pierwsze dni wystawy skierowane są dla profesjonalistów. 3 września nastąpi rozstrzygnięcie prestiżowego konkursu roślin NOWOŚCI. Zaplanowano również seminarium pt. „Wiedza dla producentów”\, a w piątek odbędzie się konferencja pt. \,\,Centrum ogrodnicze – zarządzaj aktywami”\, które poprowadzi brytyjska ekspertka  EveTigwell. \nW zeszłorocznych targach wzięło udział 253 wystawców z  11 krajów. \nOrganizatorami są Związek Szkółkarzy Polskich oraz  Agencja Promocji Zieleni.
URL:https://podoslonami.pl/zapowiedz/zielen-to-zycie/
LOCATION:Warszawskie Centrum EXPO XXI\, ul. Ignacego Prądzyńskiego 12/14\, Warszawa\, 01-222
ATTACH;FMTTYPE=image/jpeg:https://podoslonami.pl/wp-content/uploads/2015/04/modul-poziomy.jpg
END:VEVENT
END:VCALENDAR